BEGIN:VCALENDAR
VERSION:2.0
PRODID:-//AudioTheme 3.0.0
BEGIN:VEVENT
UID:urn:uuid:b727189b-f492-4ca8-8060-80632d4a8032
URL:https://www.susanne-brantl.com/live/ver-wuenscht-ver-tont-ver-se-7/
DTSTART;TZID=GMT:20231215T190000
SUMMARY:VER WÜNSCHT, VER TONT, VER SE
DESCRIPTION:VER WÜNSCHT\, VER TONT\, VER SE  Veronika von Quast\, Susanne Brantl\, Norbert Bürger
LOCATION:Kultur im Trafo\, Nymphenburger Str. 171a\, München\, \, 80634
END:VEVENT
END:VCALENDAR
