BEGIN:VCALENDAR
VERSION:2.0
PRODID:-//AudioTheme 3.0.0
BEGIN:VEVENT
UID:urn:uuid:21b373df-055e-4146-8779-0ea3606e615d
URL:https://www.susanne-brantl.com/live/stunde-null-11/
DTSTART;TZID=GMT:20191006T173000
SUMMARY:Stunde Null
DESCRIPTION:Stunde Null
LOCATION:Theaterkästle\, Schulstr. 5\, Altusried\, \, 87452
END:VEVENT
END:VCALENDAR
