BEGIN:VCALENDAR
VERSION:2.0
PRODID:-//AudioTheme 3.0.0
BEGIN:VEVENT
UID:urn:uuid:7c7d64c5-fd45-4f30-978a-ef2b4caeb63d
URL:https://www.susanne-brantl.com/live/stossseufzer-einer-dame-in-bewegter-nacht-3/
DTSTART;TZID=GMT:20240303T180000
SUMMARY:Stoßseufzer einer Dame in bewegter Nacht
DESCRIPTION:STOßSEUFZER EINER DAME IN BEWEGTER NACHT  Lieben\, ja – aber schlafen allein!  mit: Julian Schwarz
LOCATION:Kleines Theater Kammerspiele Landshut\, Bauhofstraße 1\, Landshut\, \, 84028
END:VEVENT
END:VCALENDAR
