BEGIN:VCALENDAR
VERSION:2.0
PRODID:-//AudioTheme 3.0.0
BEGIN:VEVENT
UID:urn:uuid:f3ac0493-3cf3-4885-bbd7-6711b29f44ca
URL:https://www.susanne-brantl.com/live/heilige-nacht/
DTSTART;TZID=GMT:20221218T150000
SUMMARY:Heilige Nacht
DESCRIPTION:HEILIGE NACHT  Eine Weihnachtslegende von Ludwig Thoma
LOCATION:St Ursula Kirche\, Kaiserplatz 1\, München\, \, 80803
END:VEVENT
END:VCALENDAR
