BEGIN:VCALENDAR
VERSION:2.0
PRODID:-//AudioTheme 3.0.0
BEGIN:VEVENT
UID:urn:uuid:f3ac0493-3cf3-4885-bbd7-6711b29f44ca
URL:https://www.susanne-brantl.com/live/heilige-nacht-2/
DTSTART;TZID=GMT:20221211T170000
SUMMARY:Heilige Nacht
DESCRIPTION:HEILIGE NACHT  Eine Weihnachtslegende von Ludwig Thoma
LOCATION:Pfarrei St. Franziskus\, Hans-Mielich-Str. 14\, München\, \, 81543
END:VEVENT
END:VCALENDAR
