BEGIN:VCALENDAR
VERSION:2.0
PRODID:-//AudioTheme 3.0.0
BEGIN:VEVENT
UID:urn:uuid:50627ecc-7d45-41da-af22-230ed76977dd
URL:https://www.susanne-brantl.com/live/gig-1504/
DTSTART;TZID=GMT:20230823T080000
SUMMARY:BR Heimat
DESCRIPTION:Susanne Brantl zu Gast bei Hermine Kaiser in "Habe die Ehre!"
LOCATION:BR Heimat\, BR Heimat Radio\, Live-Stream\, 
END:VEVENT
END:VCALENDAR
