BEGIN:VCALENDAR
VERSION:2.0
PRODID:-//AudioTheme 3.0.0
BEGIN:VEVENT
UID:urn:uuid:f3ac0493-3cf3-4885-bbd7-6711b29f44ca
URL:https://www.susanne-brantl.com/live/die-hoflieferanten-5/
DTSTART;TZID=GMT:20210626T150000
SUMMARY:Die Hinter-Hoflieferanten
DESCRIPTION:DIE HOFLIEFERANTEN  Gesang und Geschichten über Mond\, Liebe\, Mord und Alkohol  mit: Ludwig Hahn\, Norbert Bürger\, Julian Schwarz
LOCATION:Hexenhäusl Gans Woanders\, Kupferhammerstraße 2\, München\, \, 81543
END:VEVENT
END:VCALENDAR
