BEGIN:VCALENDAR
VERSION:2.0
PRODID:-//AudioTheme 3.0.0
BEGIN:VEVENT
UID:urn:uuid:7c7d64c5-fd45-4f30-978a-ef2b4caeb63d
URL:https://www.susanne-brantl.com/live/die-hinter-hoflieferanten-8/
DTSTART;TZID=GMT:20210904T150000
SUMMARY:Die Hinter-Hoflieferanten
DESCRIPTION:DIE HOFLIEFERANTEN  Gesang und Geschichten über Mond\, Liebe\, Mord und Alkohol  mit: Ludwig Hahn\, Norbert Bürger\, Julian Schwarz
LOCATION:Fraunhofer Isarflimmern\, Erhardtstraße 4-6 an der Isar - gleich bei der Reichenbachbrücke!\, München\, \, 80469
END:VEVENT
END:VCALENDAR
