BEGIN:VCALENDAR
VERSION:2.0
PRODID:-//AudioTheme 3.0.0
BEGIN:VEVENT
UID:urn:uuid:f3ac0493-3cf3-4885-bbd7-6711b29f44ca
URL:https://www.susanne-brantl.com/live/die-hinter-hoflieferanten-37/
DTSTART;TZID=GMT:20240302T183000
SUMMARY:Die Hinter-Hoflieferanten
DESCRIPTION:DIE HOFLIEFERANTEN  Gesang und Geschichten über Mond\, Liebe\, Mord und Alkohol  mit: Ludwig Hahn\, Norbert Bürger\, Julian Schwarz
LOCATION:Kloster Seeon\, Klosterweg 1\, Seeon\, \, 83370
END:VEVENT
END:VCALENDAR
