BEGIN:VCALENDAR
VERSION:2.0
PRODID:-//AudioTheme 3.0.0
BEGIN:VEVENT
UID:urn:uuid:7c7d64c5-fd45-4f30-978a-ef2b4caeb63d
URL:https://www.susanne-brantl.com/live/die-hinter-hoflieferanten-35/
DTSTART;TZID=GMT:20240929T130000
SUMMARY:Die Hinter-Hoflieferanten
DESCRIPTION:DIE HOFLIEFERANTEN  Gesang und Geschichten aus der Zeit von 1890 – 1930  mit: Ludwig Hahn\, Norbert Bürger\, Julian Schwarz
LOCATION:Schacky-Park\, Monopteros im Schacky-Park (Zugang über Eingang Vogelherdstraße)\, Dießen am Ammersee\, \, 86911
END:VEVENT
END:VCALENDAR
