BEGIN:VCALENDAR
VERSION:2.0
PRODID:-//AudioTheme 3.0.0
BEGIN:VEVENT
UID:urn:uuid:7c7d64c5-fd45-4f30-978a-ef2b4caeb63d
URL:https://www.susanne-brantl.com/live/die-hinter-hoflieferanten-3/
DTSTART;TZID=GMT:20210821T170000
SUMMARY:Die Hinter-Hoflieferanten
DESCRIPTION:DIE HOFLIEFERANTEN  Gesang und Geschichten über Mond\, Liebe\, Mord und Alkohol  mit: Ludwig Hahn\, Norbert Bürger\, Julian Schwarz
LOCATION:HINTERHOF Maxvorstadt\, Georgenstr. 57\, München\, \, 80799
END:VEVENT
END:VCALENDAR
