BEGIN:VCALENDAR
VERSION:2.0
PRODID:-//AudioTheme 3.0.0
BEGIN:VEVENT
UID:urn:uuid:7c7d64c5-fd45-4f30-978a-ef2b4caeb63d
URL:https://www.susanne-brantl.com/live/die-hinter-hoflieferanten-18/
DTSTART;TZID=GMT:20220915T123000
SUMMARY:Stoßseufzer einer Dame in bewegter Nacht
DESCRIPTION:STOßSEUFZER EINER DAME IN BEWEGTER NACHT  Lieben\, ja – aber schlafen allein!  mit: Ludwig Hahn\, Norbert Bürger\, Julian Schwarz
LOCATION:ASZ Haidhausen\, Wolfgangstraße 18\, München\, \, 81667
END:VEVENT
END:VCALENDAR
