BEGIN:VCALENDAR
VERSION:2.0
PRODID:-//AudioTheme 3.0.0
BEGIN:VEVENT
UID:urn:uuid:c781ab97-8666-4eb8-8c3f-86d7eb300d59
URL:https://www.susanne-brantl.com/live/2021-10-24/
DTSTART;TZID=GMT:20211024T150000
SUMMARY:Peter und der Wolf
DESCRIPTION:PETER & DER WOLF
LOCATION:St. Franziskus\, Hans-Mielichstr.14\, München\, \, 81543
END:VEVENT
END:VCALENDAR
