BEGIN:VCALENDAR
VERSION:2.0
PRODID:-//AudioTheme 3.0.0
BEGIN:VEVENT
UID:urn:uuid:d7ef3486-fd38-40ec-ac56-8bc1fc349ad7
URL:https://www.susanne-brantl.com/live/2020-02-07/
DTSTART;TZID=GMT:20200207T183000
SUMMARY:Mein Leben & Ich
DESCRIPTION:Mein Leben & Ich
LOCATION:Stadttheater Kaufbeuren\, Rosental 6-8\, Kaufbeuren\, \, 87600
END:VEVENT
END:VCALENDAR
