BEGIN:VCALENDAR
VERSION:2.0
PRODID:-//AudioTheme 3.0.0
BEGIN:VEVENT
UID:urn:uuid:794d1744-8a38-481a-87dc-0d13b8a552d9
URL:https://www.susanne-brantl.com/live/2019-05-12/
DTSTART;TZID=GMT:20190512T173000
SUMMARY:Stoßseufzer einer Dame in bewegter Nacht
DESCRIPTION:Stoßseufzer einer Dame in bewegter Nacht
LOCATION:Stadtteilwochen und Kulturtage 2019\, Kulturzentrum 2411 Blodigstraße 4\, München\, \, 80993
END:VEVENT
END:VCALENDAR
