BEGIN:VCALENDAR
VERSION:2.0
PRODID:-//AudioTheme 3.0.0
BEGIN:VEVENT
UID:urn:uuid:240f8f9f-ec9c-48a5-a14f-05cb64e4303d
URL:https://www.susanne-brantl.com/live/2019-05-10/
DTSTART;TZID=GMT:20190510T173000
SUMMARY:Vorstadt-Hochzeit anno 1905
DESCRIPTION:Vorstadt-Hochzeit anno 1905
LOCATION:Hofbräuhaus München\, Platzl 9\, München\, \, 80331
END:VEVENT
END:VCALENDAR
